BEGIN:VCALENDAR
VERSION:2.0
PRODID:-//alt.lib - ECPv5.9.1//NONSGML v1.0//EN
CALSCALE:GREGORIAN
METHOD:PUBLISH
X-WR-CALNAME:alt.lib
X-ORIGINAL-URL:https://altlib.org
X-WR-CALDESC:Events for alt.lib
BEGIN:VTIMEZONE
TZID:America/Vancouver
BEGIN:DAYLIGHT
TZOFFSETFROM:-0800
TZOFFSETTO:-0700
TZNAME:PDT
DTSTART:20190310T100000
END:DAYLIGHT
BEGIN:STANDARD
TZOFFSETFROM:-0700
TZOFFSETTO:-0800
TZNAME:PST
DTSTART:20191103T090000
END:STANDARD
END:VTIMEZONE
BEGIN:VEVENT
DTSTART;TZID=America/Vancouver:20190616T111000
DTEND;TZID=America/Vancouver:20190616T130000
DTSTAMP:20260424T093419
CREATED:20190520T172631Z
LAST-MODIFIED:20190520T172631Z
UID:22337-1560683400-1560690000@altlib.org
SUMMARY:11:11 Writer's Communion
DESCRIPTION:com·mun·ion\nkəˈmyo͞onyən\nnoun\n1. the sharing or exchanging of intimate thoughts and feelings\, especially when the exchange is on a mental or spiritual level.
URL:https://altlib.org/event/1111-writers-communion-12/
ATTACH;FMTTYPE=image/jpeg:https://altlib.org/wp-content/uploads/2019/01/N8.jpg
END:VEVENT
END:VCALENDAR