BEGIN:VCALENDAR
VERSION:2.0
PRODID:-//alt.lib - ECPv5.9.1//NONSGML v1.0//EN
CALSCALE:GREGORIAN
METHOD:PUBLISH
X-WR-CALNAME:alt.lib
X-ORIGINAL-URL:https://altlib.org
X-WR-CALDESC:Events for alt.lib
BEGIN:VTIMEZONE
TZID:UTC
BEGIN:STANDARD
TZOFFSETFROM:+0000
TZOFFSETTO:+0000
TZNAME:UTC
DTSTART:20170101T000000
END:STANDARD
END:VTIMEZONE
BEGIN:VEVENT
DTSTART;TZID=UTC:20170803T191500
DTEND;TZID=UTC:20170803T230000
DTSTAMP:20260422T011431
CREATED:20170728T052307Z
LAST-MODIFIED:20170728T052307Z
UID:20589-1501787700-1501801200@altlib.org
SUMMARY:Art Medicine Revival Show: Lelu Island Benefit
DESCRIPTION:Unkel Kunkel & Kin present a night of fantastic entertainment for a fantastic cause! Themes include but are not limited to:\nRebirths\, Recycles\, Revolutions\nSustenance & Sustainability\nArt is Medicine\, Medicine is Art\nA holistic communal investigation celebration that will leave the audience questioned and informed ; fed on all levels of your intrinsic roles as part of society and the global environment–spiritually\, politically\, literally. All proceeds go to Indigenous land defenders at Lelu Island. \nPERFORMANCE BY:\n~Meghan Yates\n~Karen Kunkel & Kin\n~The Wild Choir\n~Kay Kay Fantasia (re-birth day mogarch)\n~Students for the Salish Sea\n~Claymazing\n~Las Sucias\n~Live Painting by Lisa Moody\n~Eve Samson Marcus \n**$10 suggested donation\, no one turned away for lack of funds\nAll Ages\, No alcohol \nFurther event info – www.facebook.com/events/685987948253579/
URL:https://altlib.org/event/art-medicine-revival-show-lelu-island-benefit/
CATEGORIES:Concert
END:VEVENT
END:VCALENDAR