BEGIN:VCALENDAR
VERSION:2.0
PRODID:-//alt.lib - ECPv5.9.1//NONSGML v1.0//EN
CALSCALE:GREGORIAN
METHOD:PUBLISH
X-WR-CALNAME:alt.lib
X-ORIGINAL-URL:https://altlib.org
X-WR-CALDESC:Events for alt.lib
BEGIN:VTIMEZONE
TZID:America/Vancouver
BEGIN:DAYLIGHT
TZOFFSETFROM:-0800
TZOFFSETTO:-0700
TZNAME:PDT
DTSTART:20190310T100000
END:DAYLIGHT
BEGIN:STANDARD
TZOFFSETFROM:-0700
TZOFFSETTO:-0800
TZNAME:PST
DTSTART:20191103T090000
END:STANDARD
END:VTIMEZONE
BEGIN:VEVENT
DTSTART;TZID=America/Vancouver:20191017T190000
DTEND;TZID=America/Vancouver:20191017T220000
DTSTAMP:20260422T222907
CREATED:20190816T024019Z
LAST-MODIFIED:20190816T024019Z
UID:22537-1571338800-1571349600@altlib.org
SUMMARY:Artists' Open Stage
DESCRIPTION:Signups start at 7:00pm; performances start at 7:30pm \nThe Artist’s Open Stage is a night of creative expression: a sharing of words\, music\, movement\, and ideas. Please join us every third Thursday by performing or curling up on the couch and enjoying the variety of talent our community has to offer. \nAltLib is always ALL AGES~
URL:https://altlib.org/event/artists-open-stage-17/
LOCATION:Alternative Library\, 519 E Maple St\, Bellingham\, WA\, 98225\, United States
ATTACH;FMTTYPE=image/jpeg:https://altlib.org/wp-content/uploads/2019/05/LastTemptation_Page_023.jpg
END:VEVENT
END:VCALENDAR