BEGIN:VCALENDAR
VERSION:2.0
PRODID:-//alt.lib - ECPv5.9.1//NONSGML v1.0//EN
CALSCALE:GREGORIAN
METHOD:PUBLISH
X-WR-CALNAME:alt.lib
X-ORIGINAL-URL:https://altlib.org
X-WR-CALDESC:Events for alt.lib
BEGIN:VTIMEZONE
TZID:UTC
BEGIN:STANDARD
TZOFFSETFROM:+0000
TZOFFSETTO:+0000
TZNAME:UTC
DTSTART:20170101T000000
END:STANDARD
END:VTIMEZONE
BEGIN:VEVENT
DTSTART;TZID=UTC:20171116T183000
DTEND;TZID=UTC:20171116T220000
DTSTAMP:20260422T184923
CREATED:20171031T153000Z
LAST-MODIFIED:20171031T153000Z
UID:20761-1510857000-1510869600@altlib.org
SUMMARY:Artists' Open Stage
DESCRIPTION:Hey Y’all\,\nLooking for somewhere to make\, share & listen to creative expressive acts of all kind???\nYou\, yes you\, should most definitely make y’r way over to the Alt Lib to share art things new & old & sit back to appreciate the art things y’r community has made\, too! \nSign-up’s start at 6:30 & we willll get things moving at 7:00pm. I\, Melody\, host lady\, would love to see you there. \nInvite y’r friends!! \nRSVP and more info here: https://www.facebook.com/events/914076128730796/
URL:https://altlib.org/event/artists-open-stage-4/
END:VEVENT
END:VCALENDAR