BEGIN:VCALENDAR
VERSION:2.0
PRODID:-//alt.lib - ECPv5.9.1//NONSGML v1.0//EN
CALSCALE:GREGORIAN
METHOD:PUBLISH
X-WR-CALNAME:alt.lib
X-ORIGINAL-URL:https://altlib.org
X-WR-CALDESC:Events for alt.lib
BEGIN:VTIMEZONE
TZID:UTC
BEGIN:STANDARD
TZOFFSETFROM:+0000
TZOFFSETTO:+0000
TZNAME:UTC
DTSTART:20160101T000000
END:STANDARD
END:VTIMEZONE
BEGIN:VEVENT
DTSTART;TZID=UTC:20160802T200000
DTEND;TZID=UTC:20160802T230000
DTSTAMP:20260423T070424
CREATED:20160724T100003Z
LAST-MODIFIED:20160724T100003Z
UID:20283-1470168000-1470178800@altlib.org
SUMMARY:Artist's Open Stage Monthly Open MIc
DESCRIPTION:Come one\, come all to Bellingham’s favorite open mic night! \nIt’s time to share your creative side at the Alternative Library. This open mic is a chance for performers of any art form to show their colours. Bring your original songs\, stories\, dance numbers\, jokes\, acrobatics\, homemade instruments\, or any other 15-minute “what-have-you”s downtown for a weekly evening of inspiration\, entertainment\, and community building. \nSign up begins at 8:30pm\, and performances will start at 9\, with time and space to mingle\, connect\, ask questions\, and share ideas. \nPlease join hosts Traesti and Alexandra of The Living Arrows every first Tuesday at the Alternative Library! \nBring a mug if ya want to drink tea.
URL:https://altlib.org/event/artists-open-stage-monthly-open-mic/
END:VEVENT
END:VCALENDAR