BEGIN:VCALENDAR
VERSION:2.0
PRODID:-//alt.lib - ECPv5.9.1//NONSGML v1.0//EN
CALSCALE:GREGORIAN
METHOD:PUBLISH
X-WR-CALNAME:alt.lib
X-ORIGINAL-URL:https://altlib.org
X-WR-CALDESC:Events for alt.lib
BEGIN:VTIMEZONE
TZID:UTC
BEGIN:STANDARD
TZOFFSETFROM:+0000
TZOFFSETTO:+0000
TZNAME:UTC
DTSTART:20170101T000000
END:STANDARD
END:VTIMEZONE
BEGIN:VEVENT
DTSTART;TZID=UTC:20171118T150000
DTEND;TZID=UTC:20171118T170000
DTSTAMP:20260422T135532
CREATED:20171031T155631Z
LAST-MODIFIED:20171031T160547Z
UID:20763-1511017200-1511024400@altlib.org
SUMMARY:CLASSROOM: Consent and Accountability
DESCRIPTION:This will be the first in what we hope to become an ongoing discussion that furthers our anti-oppression work within the space and beyond it. Some things we’ll be discussing at this first meeting include: rape culture\, cultural appropriation\, heterosexism\, and how we want to move forward with creating systems of accountability for ourselves and those in our community. \nRSVP and more info here: https://www.facebook.com/events/2006356496316568/
URL:https://altlib.org/event/classroom-consent-and-accountability/
CATEGORIES:Classroom
END:VEVENT
END:VCALENDAR