BEGIN:VCALENDAR
VERSION:2.0
PRODID:-//alt.lib - ECPv5.9.1//NONSGML v1.0//EN
CALSCALE:GREGORIAN
METHOD:PUBLISH
X-WR-CALNAME:alt.lib
X-ORIGINAL-URL:https://altlib.org
X-WR-CALDESC:Events for alt.lib
BEGIN:VTIMEZONE
TZID:UTC
BEGIN:STANDARD
TZOFFSETFROM:+0000
TZOFFSETTO:+0000
TZNAME:UTC
DTSTART:20180101T000000
END:STANDARD
END:VTIMEZONE
BEGIN:VEVENT
DTSTART;TZID=UTC:20180610T080000
DTEND;TZID=UTC:20180617T230000
DTSTAMP:20260422T022834
CREATED:20180518T003718Z
LAST-MODIFIED:20180518T003718Z
UID:21132-1528617600-1529276400@altlib.org
SUMMARY:CLOSED FOR CONSTRUCTION
DESCRIPTION:We’ll be closed from June 10th-17th for a lighting remodel and revarnishing of the floor.
URL:https://altlib.org/event/closed-for-construction/
END:VEVENT
END:VCALENDAR