BEGIN:VCALENDAR
VERSION:2.0
PRODID:-//alt.lib - ECPv5.9.1//NONSGML v1.0//EN
CALSCALE:GREGORIAN
METHOD:PUBLISH
X-WR-CALNAME:alt.lib
X-ORIGINAL-URL:https://altlib.org
X-WR-CALDESC:Events for alt.lib
BEGIN:VTIMEZONE
TZID:UTC
BEGIN:STANDARD
TZOFFSETFROM:+0000
TZOFFSETTO:+0000
TZNAME:UTC
DTSTART:20170101T000000
END:STANDARD
END:VTIMEZONE
BEGIN:VEVENT
DTSTART;TZID=UTC:20170829T193000
DTEND;TZID=UTC:20170829T230000
DTSTAMP:20260423T152650
CREATED:20170816T083551Z
LAST-MODIFIED:20170816T083615Z
UID:20614-1504035000-1504047600@altlib.org
SUMMARY:CONCERT: Porch Cat\, Voice Hoist\, Algae Guck\, RUFF BUMMER
DESCRIPTION:Voice Hoist (South FL) – https://voicehoist.bandcamp.com/ \nAlgae Guck (North FL) – https://popnihil.bandcamp.com/album/delicious-casket \nRUFF BUMMER (Central FL transplant) – https://m.facebook.com/sADdOG2020/ \nPorch Cat (Bham) – https://www.facebook.com/porchcat.music/ \n$5-$10 Donation \nFurther info and RSVP: https://www.facebook.com/events/746784478855998/
URL:https://altlib.org/event/concert-porch-cat-voice-hoist-algae-guck-ruff-bummer/
CATEGORIES:Concert
END:VEVENT
END:VCALENDAR