BEGIN:VCALENDAR
VERSION:2.0
PRODID:-//alt.lib - ECPv5.9.1//NONSGML v1.0//EN
CALSCALE:GREGORIAN
METHOD:PUBLISH
X-WR-CALNAME:alt.lib
X-ORIGINAL-URL:https://altlib.org
X-WR-CALDESC:Events for alt.lib
BEGIN:VTIMEZONE
TZID:UTC
BEGIN:STANDARD
TZOFFSETFROM:+0000
TZOFFSETTO:+0000
TZNAME:UTC
DTSTART:20160101T000000
END:STANDARD
END:VTIMEZONE
BEGIN:VEVENT
DTSTART;TZID=UTC:20160824T200000
DTEND;TZID=UTC:20160824T220000
DTSTAMP:20260422T180605
CREATED:20160817T092258Z
LAST-MODIFIED:20160818T082202Z
UID:20303-1472068800-1472076000@altlib.org
SUMMARY:Film nights at the Alt Lib (every other Wednesday) - Dugma - The Button
DESCRIPTION:Tonight’s feature is a documentary about a Syrian Suicide Bombing Group. Some of the content may be disturbing to some. Please use your discretion. \nDugma – The Button – An intimate portrait of a group of very different suicide bombers working for Al Qaeda in Syria. From the Saudi who loves singing and fried chicken\, to a 26-year-old white British convert who worries a lot about his new wife\, this remarkable film embeds with an unlikely bunch of “martyrdom seekers”\, each waiting for their turn to go on a final mission\, known by Jihadis as ‘Dugma’. \nThe Screening will be followed by a discussion. Come join in the conversation. \n\n\n  \n 
URL:https://altlib.org/event/film-nights-at-the-alt-lib-every-other-wednesday/
END:VEVENT
END:VCALENDAR