BEGIN:VCALENDAR
VERSION:2.0
PRODID:-//alt.lib - ECPv5.9.1//NONSGML v1.0//EN
CALSCALE:GREGORIAN
METHOD:PUBLISH
X-WR-CALNAME:alt.lib
X-ORIGINAL-URL:https://altlib.org
X-WR-CALDESC:Events for alt.lib
BEGIN:VTIMEZONE
TZID:America/Vancouver
BEGIN:DAYLIGHT
TZOFFSETFROM:-0800
TZOFFSETTO:-0700
TZNAME:PDT
DTSTART:20220313T100000
END:DAYLIGHT
BEGIN:STANDARD
TZOFFSETFROM:-0700
TZOFFSETTO:-0800
TZNAME:PST
DTSTART:20221106T090000
END:STANDARD
END:VTIMEZONE
BEGIN:VEVENT
DTSTART;TZID=America/Vancouver:20220721T170000
DTEND;TZID=America/Vancouver:20220721T200000
DTSTAMP:20260425T134229
CREATED:20220629T201042Z
LAST-MODIFIED:20220719T040029Z
UID:23812-1658422800-1658433600@altlib.org
SUMMARY:Marlo Mudd // Gabriel Seaver // Hemlock // Kjetil Lund
DESCRIPTION:Outdoor sunset generator show at THE SLAB! Come check out some sonic and scenic beauty with::: \nMarlo Mudd (Bellingham\, WA) https://marlomudd.bandcamp.com \nGabriel Seaver (Portland\, OR)\nhttps://gabrielseaver.bandcamp.com/ \nHemlock (Chicago\, IL)\nhttps://hemlock.bandcamp.com \nKjetil Lund (Bellingham\, WA) \nALL AGES /// NOTAFLOF
URL:https://altlib.org/event/gabriel-seaver-hemlock-marlo-mudd/
ATTACH;FMTTYPE=image/jpeg:https://altlib.org/wp-content/uploads/2022/07/5199B238-2AE8-47C1-9175-A2A580E45A6C.jpeg
END:VEVENT
END:VCALENDAR