BEGIN:VCALENDAR
VERSION:2.0
PRODID:-//alt.lib - ECPv5.9.1//NONSGML v1.0//EN
CALSCALE:GREGORIAN
METHOD:PUBLISH
X-WR-CALNAME:alt.lib
X-ORIGINAL-URL:https://altlib.org
X-WR-CALDESC:Events for alt.lib
BEGIN:VTIMEZONE
TZID:UTC
BEGIN:STANDARD
TZOFFSETFROM:+0000
TZOFFSETTO:+0000
TZNAME:UTC
DTSTART:20170101T000000
END:STANDARD
END:VTIMEZONE
BEGIN:VEVENT
DTSTART;TZID=UTC:20171128T180000
DTEND;TZID=UTC:20171128T190000
DTSTAMP:20260423T135203
CREATED:20171119T100400Z
LAST-MODIFIED:20171119T100400Z
UID:20786-1511892000-1511895600@altlib.org
SUMMARY:Group Healing Meditation
DESCRIPTION:
URL:https://altlib.org/event/group-healing-meditation-2/
END:VEVENT
END:VCALENDAR