BEGIN:VCALENDAR
VERSION:2.0
PRODID:-//alt.lib - ECPv5.9.1//NONSGML v1.0//EN
CALSCALE:GREGORIAN
METHOD:PUBLISH
X-WR-CALNAME:alt.lib
X-ORIGINAL-URL:https://altlib.org
X-WR-CALDESC:Events for alt.lib
BEGIN:VTIMEZONE
TZID:UTC
BEGIN:STANDARD
TZOFFSETFROM:+0000
TZOFFSETTO:+0000
TZNAME:UTC
DTSTART:20160101T000000
END:STANDARD
END:VTIMEZONE
BEGIN:VEVENT
DTSTART;TZID=UTC:20160806T113000
DTEND;TZID=UTC:20160806T133000
DTSTAMP:20260423T150720
CREATED:20160724T095507Z
LAST-MODIFIED:20160724T095507Z
UID:20280-1470483000-1470490200@altlib.org
SUMMARY:Introvert Potluck & Roving Read Aloud
DESCRIPTION:Come down to the Alt Lib to eat with your pals! Bring yourself\, food to share\, and something to read or check something out before we head out. \nWe’ll eat\, maybe talk about what we’re reading\, or not at all\, then we’ll flock out toward downtown and leisurely take turns reading aloud in a roving pack.  \nGot a stoop you like? Know of any couches in alleys right now? Wanna make a scene downtown? Do you like walking and reading at the same time? How about aloud?  \nLet’s fill our bellies and roam around town with books in hand. \nFirst Saturday of every month.
URL:https://altlib.org/event/introvert-potluck-roving-read-aloud/
END:VEVENT
END:VCALENDAR