BEGIN:VCALENDAR
VERSION:2.0
PRODID:-//alt.lib - ECPv5.9.1//NONSGML v1.0//EN
CALSCALE:GREGORIAN
METHOD:PUBLISH
X-WR-CALNAME:alt.lib
X-ORIGINAL-URL:https://altlib.org
X-WR-CALDESC:Events for alt.lib
BEGIN:VTIMEZONE
TZID:UTC
BEGIN:STANDARD
TZOFFSETFROM:+0000
TZOFFSETTO:+0000
TZNAME:UTC
DTSTART:20190101T000000
END:STANDARD
END:VTIMEZONE
BEGIN:VEVENT
DTSTART;TZID=UTC:20190209T200000
DTEND;TZID=UTC:20190209T230000
DTSTAMP:20260422T081529
CREATED:20190122T131918Z
LAST-MODIFIED:20190122T131918Z
UID:22041-1549742400-1549753200@altlib.org
SUMMARY:KZAX Presents: Forest Ray / Cat Valley / Hott Waxxx DeeJays
DESCRIPTION:Doors at 7:30pm\nMusic at 8:00pm\n$6-12 sliding scale  \nKZAX Presents… is a monthly concert series hosted by KZAX-Lp 94.9 FM at venues across Bellingham to explore awesome independent bands from the PNW and West Coast! For February\, the Alternative Library will host the KZAX audience in their glorious converted church space for a long distance trip through psych rock and vinyl wax\, with the one and only wizard Radman Xenos opening his portal of visual stimulation upon the stage! Come out to see where the night transports us all! \nThis month’s featured acts: \nForest Ray (SEA)\nShoegazing garage rock to drive you thru your next head trip.\nhttps://forestray.bandcamp.com/ \nCat Valley (BEL)\nFemme pop-punk rockers surfing the crashing waves of the modern patriarchy!\nhttps://catvalley.bandcamp.com/ \nThe Hott Waxxx DeeJays (BEL)\nWednesday nights at 10pm\, Forrest & Joey take over the KZAX airwaves for a 3-hour journey through vinyl grooves so hot they’ll melt your mind! \nRSVP and more info: https://www.facebook.com/events/371029980108483/
URL:https://altlib.org/event/kzax-presents-forest-ray-cat-valley-hott-waxxx-deejays/
END:VEVENT
END:VCALENDAR