BEGIN:VCALENDAR
VERSION:2.0
PRODID:-//alt.lib - ECPv5.9.1//NONSGML v1.0//EN
CALSCALE:GREGORIAN
METHOD:PUBLISH
X-WR-CALNAME:alt.lib
X-ORIGINAL-URL:https://altlib.org
X-WR-CALDESC:Events for alt.lib
BEGIN:VTIMEZONE
TZID:America/Vancouver
BEGIN:DAYLIGHT
TZOFFSETFROM:-0800
TZOFFSETTO:-0700
TZNAME:PDT
DTSTART:20220313T100000
END:DAYLIGHT
BEGIN:STANDARD
TZOFFSETFROM:-0700
TZOFFSETTO:-0800
TZNAME:PST
DTSTART:20221106T090000
END:STANDARD
END:VTIMEZONE
BEGIN:VEVENT
DTSTART;TZID=America/Vancouver:20220320T080000
DTEND;TZID=America/Vancouver:20220320T170000
DTSTAMP:20260424T164352
CREATED:20220303T182352Z
LAST-MODIFIED:20220303T182453Z
UID:23717-1647763200-1647795600@altlib.org
SUMMARY:North Sound DA Training Camp: REGISTRATION
DESCRIPTION:North Sound DA Camp!\nApril 8-10\, Whatcom/Skagit County\, registration link is open through March 20th! \nWeekend-long d!rect act!on training camp in the woods of Whatcom/Skagit Counties. Come to camp and learn about for3st d3fense tactics\, including blockades\, campaigning\, security culture\, and more! \nRegistration at:::\nhttps://tinyurl.com/DAtrainingcamp \nFor more information check out @bellingham.forest.defense on Instagram. \nWhen we empower ourselves\, we in turn empower our communities!
URL:https://altlib.org/event/north-sound-da-training-registration/
ATTACH;FMTTYPE=image/jpeg:https://altlib.org/wp-content/uploads/2022/03/C27A2465-B229-49FA-A4D1-3E898E7B9AE6.jpeg
END:VEVENT
END:VCALENDAR