BEGIN:VCALENDAR
VERSION:2.0
PRODID:-//alt.lib - ECPv5.9.1//NONSGML v1.0//EN
CALSCALE:GREGORIAN
METHOD:PUBLISH
X-WR-CALNAME:alt.lib
X-ORIGINAL-URL:https://altlib.org
X-WR-CALDESC:Events for alt.lib
BEGIN:VTIMEZONE
TZID:UTC
BEGIN:STANDARD
TZOFFSETFROM:+0000
TZOFFSETTO:+0000
TZNAME:UTC
DTSTART:20170101T000000
END:STANDARD
END:VTIMEZONE
BEGIN:VEVENT
DTSTART;TZID=UTC:20171122T200000
DTEND;TZID=UTC:20171122T220000
DTSTAMP:20260422T135950
CREATED:20171012T111045Z
LAST-MODIFIED:20171017T073034Z
UID:20738-1511380800-1511388000@altlib.org
SUMMARY:Rebel Worker Movie: Wounded Knee
DESCRIPTION:Whatcom/Skagit IWW presents the monthly Rebel Worker Movie on the fourth Wednesday of each month. \nWounded Knee (2009) \nOn the night of February 27\, 1973\, a caravan of cars carrying 200 armed Oglala Lakota-led by American Indian Movement (AIM) activists-entered Wounded Knee on the Pine Ridge Reservation and quickly occupied buildings\, cut off access\, and took up defensive positions. When federal agents arrived\, they declared\, “The Indians are in charge of the town\,” and a 71-day standoff ensued. Compiling an astonishing amount of archival film footage (notable for the key moments it captures) and firsthand accounts from participants\, Stanley Nelson creates an immersive\, comprehensive account of the occupation and its fascinating complexity.
URL:https://altlib.org/event/rebel-worker-movie-tba/
CATEGORIES:Film Screening
END:VEVENT
END:VCALENDAR