BEGIN:VCALENDAR
VERSION:2.0
PRODID:-//alt.lib - ECPv5.9.1//NONSGML v1.0//EN
CALSCALE:GREGORIAN
METHOD:PUBLISH
X-WR-CALNAME:alt.lib
X-ORIGINAL-URL:https://altlib.org
X-WR-CALDESC:Events for alt.lib
BEGIN:VTIMEZONE
TZID:UTC
BEGIN:STANDARD
TZOFFSETFROM:+0000
TZOFFSETTO:+0000
TZNAME:UTC
DTSTART:20180101T000000
END:STANDARD
END:VTIMEZONE
BEGIN:VEVENT
DTSTART;TZID=UTC:20180425T190000
DTEND;TZID=UTC:20180425T210000
DTSTAMP:20260422T090711
CREATED:20171017T073758Z
LAST-MODIFIED:20180129T071312Z
UID:20748-1524682800-1524690000@altlib.org
SUMMARY:Rebel Worker Movie: Zapatista
DESCRIPTION:Whatcom/Skagit IWW presents the monthly Rebel Worker Movie on the fourth Wednesday of each month. \nZapatista (1999): April 25th\, 2018 \nJan. 1 1994: The Day the North American Free Trade Agreement (NAFTA) went in effect. A few minutes after midnight in Southeastern Mexico\, several thousand Indian soldiers take over half the state of Chiapas\, declaring a war against global corporate power and for humanity. They call themselves the Zapatista National Liberation Army (EZLN). \nZapatista is the definitive look at the uprising in Chiapas. it is the story of the Mayan peasant uprising\, armed with sticks and their word against a first world military. It is the story of a global movement that has fought 175\,000 federal troops to a standstill and transformed Mexican culture and international political cultural forever. \nPlease bring a $5 donation to support the IWW organizing fund.
URL:https://altlib.org/event/rebel-worker-movie-zapatista/
CATEGORIES:Film Screening
END:VEVENT
END:VCALENDAR