BEGIN:VCALENDAR
VERSION:2.0
PRODID:-//alt.lib - ECPv5.9.1//NONSGML v1.0//EN
CALSCALE:GREGORIAN
METHOD:PUBLISH
X-WR-CALNAME:alt.lib
X-ORIGINAL-URL:https://altlib.org
X-WR-CALDESC:Events for alt.lib
BEGIN:VTIMEZONE
TZID:UTC
BEGIN:STANDARD
TZOFFSETFROM:+0000
TZOFFSETTO:+0000
TZNAME:UTC
DTSTART:20170101T000000
END:STANDARD
END:VTIMEZONE
BEGIN:VEVENT
DTSTART;TZID=UTC:20170818T193000
DTEND;TZID=UTC:20170818T230000
DTSTAMP:20260422T124713
CREATED:20170816T081430Z
LAST-MODIFIED:20170816T081430Z
UID:20604-1503084600-1503097200@altlib.org
SUMMARY:RIP IN HECK FEST
DESCRIPTION:Mosh Eisley & Loudhouse present: RIP IN HECK FEST at Alt.Lib\nhttps://www.facebook.com/events/488893998130878/
URL:https://altlib.org/event/rip-in-heck-fest/
END:VEVENT
END:VCALENDAR