BEGIN:VCALENDAR
VERSION:2.0
PRODID:-//alt.lib - ECPv5.9.1//NONSGML v1.0//EN
CALSCALE:GREGORIAN
METHOD:PUBLISH
X-WR-CALNAME:alt.lib
X-ORIGINAL-URL:https://altlib.org
X-WR-CALDESC:Events for alt.lib
BEGIN:VTIMEZONE
TZID:UTC
BEGIN:STANDARD
TZOFFSETFROM:+0000
TZOFFSETTO:+0000
TZNAME:UTC
DTSTART:20160101T000000
END:STANDARD
END:VTIMEZONE
BEGIN:VEVENT
DTSTART;TZID=UTC:20161105T190000
DTEND;TZID=UTC:20161105T220000
DTSTAMP:20260423T144011
CREATED:20160917T003637Z
LAST-MODIFIED:20160917T003812Z
UID:20313-1478372400-1478383200@altlib.org
SUMMARY:Show: Joseph Hein\, Kelli Frances Corrado\, Megan Yates & The Reverie Machine
DESCRIPTION:
URL:https://altlib.org/event/show-joseph-hein-kelli-frances-corrado-megan-yates-the-reverie-machine/
END:VEVENT
END:VCALENDAR