BEGIN:VCALENDAR
VERSION:2.0
PRODID:-//alt.lib - ECPv5.9.1//NONSGML v1.0//EN
CALSCALE:GREGORIAN
METHOD:PUBLISH
X-WR-CALNAME:alt.lib
X-ORIGINAL-URL:https://altlib.org
X-WR-CALDESC:Events for alt.lib
BEGIN:VTIMEZONE
TZID:UTC
BEGIN:STANDARD
TZOFFSETFROM:+0000
TZOFFSETTO:+0000
TZNAME:UTC
DTSTART:20160101T000000
END:STANDARD
END:VTIMEZONE
BEGIN:VEVENT
DTSTART;TZID=UTC:20160723T200000
DTEND;TZID=UTC:20160723T200000
DTSTAMP:20260422T022617
CREATED:20160717T040956Z
LAST-MODIFIED:20160720T035316Z
UID:20275-1469304000-1469304000@altlib.org
SUMMARY:SHOW: SiLM / Mossy Posse / Ben Kraftwerx / Idol Eyes
DESCRIPTION:SiLM – http://www.secretsilm.com/\n\nMossy Posse – New collaborations between Bemya and Mattea\n\nBen Kraftwerx – https://benkraftwerx.bandcamp.com/releases\n\nIdol Eyes – http://idoleyessound.com/
URL:https://altlib.org/event/show-silm-mossy-possy-ben-kraftwerx-idol-eyes/
END:VEVENT
END:VCALENDAR