BEGIN:VCALENDAR
VERSION:2.0
PRODID:-//alt.lib - ECPv5.9.1//NONSGML v1.0//EN
CALSCALE:GREGORIAN
METHOD:PUBLISH
X-WR-CALNAME:alt.lib
X-ORIGINAL-URL:https://altlib.org
X-WR-CALDESC:Events for alt.lib
BEGIN:VTIMEZONE
TZID:UTC
BEGIN:STANDARD
TZOFFSETFROM:+0000
TZOFFSETTO:+0000
TZNAME:UTC
DTSTART:20170101T000000
END:STANDARD
END:VTIMEZONE
BEGIN:VEVENT
DTSTART;TZID=UTC:20171117T200000
DTEND;TZID=UTC:20171117T230000
DTSTAMP:20260422T134915
CREATED:20171031T153244Z
LAST-MODIFIED:20171031T153309Z
UID:20762-1510948800-1510959600@altlib.org
SUMMARY:SHOW: Silent Disco
DESCRIPTION:More info soon!
URL:https://altlib.org/event/silent-disco/
END:VEVENT
END:VCALENDAR