BEGIN:VCALENDAR
VERSION:2.0
PRODID:-//alt.lib - ECPv5.9.1//NONSGML v1.0//EN
CALSCALE:GREGORIAN
METHOD:PUBLISH
X-WR-CALNAME:alt.lib
X-ORIGINAL-URL:https://altlib.org
X-WR-CALDESC:Events for alt.lib
BEGIN:VTIMEZONE
TZID:UTC
BEGIN:STANDARD
TZOFFSETFROM:+0000
TZOFFSETTO:+0000
TZNAME:UTC
DTSTART:20180101T000000
END:STANDARD
END:VTIMEZONE
BEGIN:VEVENT
DTSTART;TZID=UTC:20180517T193000
DTEND;TZID=UTC:20180517T230000
DTSTAMP:20260425T134035
CREATED:20180404T010238Z
LAST-MODIFIED:20180505T100043Z
UID:21026-1526585400-1526598000@altlib.org
SUMMARY:Skerik // Nordra
DESCRIPTION:Summoning something wicked from the basements of Seattle~\nDoors at 7:30pm; Music at 8:00pm \nNordra – Dystopian soundtracks to make you feel.\nhttps://nordra.bandcamp.com/ \nSkerik – Black metal sax warlock. Co-founder of bands including: Critters Buggin\, Garage a Trois\, Tuatara\, Skerik’s Syncopated Taint Septet\, Lorbo\, Crack Sabbath. Regular collaborator with: John Medeski\, Les Claypool\, Marc Ribot\, and the list goes on…\nhttps://www.skerikmusic.com/ \nRSVP and more info: https://www.facebook.com/events/208733586560800/
URL:https://altlib.org/event/skerik-nordra/
LOCATION:Alternative Library\, 519 E Maple St\, Bellingham\, WA\, 98225\, United States
CATEGORIES:Concert
ATTACH;FMTTYPE=image/jpeg:https://altlib.org/wp-content/uploads/2018/04/skeriknordra1.jpg
END:VEVENT
END:VCALENDAR