BEGIN:VCALENDAR
VERSION:2.0
PRODID:-//alt.lib - ECPv5.9.1//NONSGML v1.0//EN
CALSCALE:GREGORIAN
METHOD:PUBLISH
X-WR-CALNAME:alt.lib
X-ORIGINAL-URL:https://altlib.org
X-WR-CALDESC:Events for alt.lib
BEGIN:VTIMEZONE
TZID:America/Vancouver
BEGIN:DAYLIGHT
TZOFFSETFROM:-0800
TZOFFSETTO:-0700
TZNAME:PDT
DTSTART:20220313T100000
END:DAYLIGHT
BEGIN:STANDARD
TZOFFSETFROM:-0700
TZOFFSETTO:-0800
TZNAME:PST
DTSTART:20221106T090000
END:STANDARD
END:VTIMEZONE
BEGIN:VEVENT
DTSTART;TZID=America/Vancouver:20220707T190000
DTEND;TZID=America/Vancouver:20220707T220000
DTSTAMP:20260422T145807
CREATED:20220630T211011Z
LAST-MODIFIED:20220704T200210Z
UID:23814-1657220400-1657231200@altlib.org
SUMMARY:Atlanta Forest Defense Reportback: STOP COP CITY
DESCRIPTION:Atlanta Forest Defense Reportback: STOP COP CITY!\nAn evening of film screenings and reportbacks. Discussion with presenters. \nThis performance will be presented at Creative Hope Studio\, 1474 Franklin Street\, accessed through the the back door over the bridge. Facemasks must be worn throughout the evening\nDoors at 7:00pm \nIn the wake of the 2020 George Floyd Rebellion\, Atlanta-area officials have planned to build the largest police training compound in the country — by bulldozing the largest urban tree canopy in the country! Meanwhile\, film-industry executives plan to clear-cut what remains in order to build “the largest soundstage complex on Earth.” \nJoin us for an in-depth overview and conversation with on-the-ground activists involved in the historic movement to Stop Cop City and Defend The Atlanta Forest. \nThere will also be videos shown from Videos From the Trash Dimension\, with one of the filmmakers in attendance! \nAdmission by donation supports the presenters! \nAltLib is always ALL AGES!\nNOTAFLOF!
URL:https://altlib.org/event/stop-cop-city-atlanta-forest-defence-reportback/
LOCATION:Flow Shala\, 203 W. Chestnut Street\, Bellingham\, WA\, 98225\, United States
ATTACH;FMTTYPE=image/jpeg:https://altlib.org/wp-content/uploads/2022/06/STOPCOPCITY.jpg
END:VEVENT
END:VCALENDAR