BEGIN:VCALENDAR
VERSION:2.0
PRODID:-//alt.lib - ECPv5.9.1//NONSGML v1.0//EN
CALSCALE:GREGORIAN
METHOD:PUBLISH
X-WR-CALNAME:alt.lib
X-ORIGINAL-URL:https://altlib.org
X-WR-CALDESC:Events for alt.lib
BEGIN:VTIMEZONE
TZID:UTC
BEGIN:STANDARD
TZOFFSETFROM:+0000
TZOFFSETTO:+0000
TZNAME:UTC
DTSTART:20170101T000000
END:STANDARD
END:VTIMEZONE
BEGIN:VEVENT
DTSTART;TZID=UTC:20170313T120000
DTEND;TZID=UTC:20170313T133000
DTSTAMP:20260423T105958
CREATED:20170304T114034Z
LAST-MODIFIED:20170304T114034Z
UID:20426-1489406400-1489411800@altlib.org
SUMMARY:Volunteer Orientation
DESCRIPTION:Future Man and Kryssanne will be doing a brief introduction to what it means to be a volunteer librarian\, including: Alt Library history\, philosophy\, perks\, duties\, and opportunities.
URL:https://altlib.org/event/volunteer-orientation-2/
END:VEVENT
END:VCALENDAR