BEGIN:VCALENDAR
VERSION:2.0
PRODID:-//alt.lib - ECPv5.9.1//NONSGML v1.0//EN
CALSCALE:GREGORIAN
METHOD:PUBLISH
X-WR-CALNAME:alt.lib
X-ORIGINAL-URL:https://altlib.org
X-WR-CALDESC:Events for alt.lib
BEGIN:VTIMEZONE
TZID:America/Vancouver
BEGIN:DAYLIGHT
TZOFFSETFROM:-0800
TZOFFSETTO:-0700
TZNAME:PDT
DTSTART:20200308T100000
END:DAYLIGHT
BEGIN:STANDARD
TZOFFSETFROM:-0700
TZOFFSETTO:-0800
TZNAME:PST
DTSTART:20201101T090000
END:STANDARD
END:VTIMEZONE
BEGIN:VEVENT
DTSTART;TZID=America/Vancouver:20200228T190000
DTEND;TZID=America/Vancouver:20200228T230000
DTSTAMP:20260423T003820
CREATED:20200211T124550Z
LAST-MODIFIED:20200211T124637Z
UID:22773-1582916400-1582930800@altlib.org
SUMMARY:The Sons of Rainier / I Love You Avalanche / Whiting Tennis
DESCRIPTION:This year for Leap Day Eve\, and there’s a beautiful show just down the street. Come join in a harmonius evening with music from The Sons Of Rainier\, I Love You Avalanche and Whiting Tennis! \nDoors at 7:00pm; Music at 7:30pm\n$6-10 supports the artists and the AltLib \n~~~ \nThe Sons Of Rainier (Duo) = Devin Champlin + Dean Johnson\nhttps://thesonsofrainier.bandcamp.com/releases \nWhiting Tennis – Virginia born\, Buffalo kid\, Seattle-big kid\, New York City art\, Seattle house.\nhttps://whitingtennis.bandcamp.com/ \nI Love You Avalanche is a band that plays songs by Anna Arvan.\nhttps://iloveyouavalanche.bandcamp.com/ \nRSVP and more info here!\n~~~\nAltLib is always ALL AGES!\nNOTAFLAF\nOur space is still under construction! There are two steps leading to the front door\, and our restroom does not currently meet ADA accessibility standards. Please contact us with any accessibility needs\, and we will do our best to accommodate.
URL:https://altlib.org/event/the-sons-of-rainier-i-love-you-avalanche-whiting-tennis/
CATEGORIES:Concert
ATTACH;FMTTYPE=image/jpeg:https://altlib.org/wp-content/uploads/2020/02/BellinghamF.jpg
END:VEVENT
END:VCALENDAR