BEGIN:VCALENDAR
VERSION:2.0
PRODID:-//alt.lib - ECPv5.9.1//NONSGML v1.0//EN
CALSCALE:GREGORIAN
METHOD:PUBLISH
X-WR-CALNAME:alt.lib
X-ORIGINAL-URL:https://altlib.org
X-WR-CALDESC:Events for alt.lib
BEGIN:VTIMEZONE
TZID:America/Vancouver
BEGIN:DAYLIGHT
TZOFFSETFROM:-0800
TZOFFSETTO:-0700
TZNAME:PDT
DTSTART:20200308T100000
END:DAYLIGHT
BEGIN:STANDARD
TZOFFSETFROM:-0700
TZOFFSETTO:-0800
TZNAME:PST
DTSTART:20201101T090000
END:STANDARD
END:VTIMEZONE
BEGIN:VEVENT
DTSTART;TZID=America/Vancouver:20200324T190000
DTEND;TZID=America/Vancouver:20200324T210000
DTSTAMP:20260422T202543
CREATED:20200308T232744Z
LAST-MODIFIED:20200308T233049Z
UID:22804-1585076400-1585083600@altlib.org
SUMMARY:Paper Club
DESCRIPTION:Come cut and create through collage! An opportunity to put your mind to rest and your fingers to work~ \nWe’ve got all the supplies you’ll need — magazines\, scissors\, gluesticks\, and laughs! Bring yourself\, maybe a friend\, and maybe a snack!
URL:https://altlib.org/event/paper-club-2/
ATTACH;FMTTYPE=image/jpeg:https://altlib.org/wp-content/uploads/2020/03/89722177_2888822854496815_8939624481278656512_n.jpg
END:VEVENT
END:VCALENDAR