BEGIN:VCALENDAR
VERSION:2.0
PRODID:-//alt.lib - ECPv5.9.1//NONSGML v1.0//EN
CALSCALE:GREGORIAN
METHOD:PUBLISH
X-WR-CALNAME:alt.lib
X-ORIGINAL-URL:https://altlib.org
X-WR-CALDESC:Events for alt.lib
BEGIN:VTIMEZONE
TZID:UTC
BEGIN:STANDARD
TZOFFSETFROM:+0000
TZOFFSETTO:+0000
TZNAME:UTC
DTSTART:20170101T000000
END:STANDARD
TZID:America/Los_Angeles
BEGIN:DAYLIGHT
TZOFFSETFROM:-0800
TZOFFSETTO:-0700
TZNAME:PDT
DTSTART:20180311T100000
END:DAYLIGHT
BEGIN:STANDARD
TZOFFSETFROM:-0700
TZOFFSETTO:-0800
TZNAME:PST
DTSTART:20181104T090000
END:STANDARD
END:VTIMEZONE
BEGIN:VEVENT
DTSTART;TZID=UTC:20180320T150000
DTEND;TZID=UTC:20180320T190000
DTSTAMP:20260425T140852
CREATED:20180129T074748Z
LAST-MODIFIED:20180129T074748Z
UID:20904-1521558000-1521572400@altlib.org
SUMMARY:CLASSROOM: Alternative Healing Clinic
DESCRIPTION:Walk-in alternative healing clinic.  All by donation (N.O.T.A.F.L.O.F.).  Space open to alternative healers to practice their arts.  Currently hosting Tuck Tyrell (GroundEd Holistics\, biomagnetic acupressure and kinesiology)\, Cody Harder (BioSonic Healing\, BioMat infrared sauna and tuning fork therapy)\, and Yin (Thai bodywork/massage\, scraping\, cupping).
URL:https://altlib.org/event/classroom-alternative-healing-clinic-11/
CATEGORIES:Classroom
END:VEVENT
BEGIN:VEVENT
DTSTART;TZID=UTC:20180314T160000
DTEND;TZID=UTC:20180314T173000
DTSTAMP:20260425T140852
CREATED:20180315T054801Z
LAST-MODIFIED:20180315T054801Z
UID:20988-1521043200-1521048600@altlib.org
SUMMARY:Yoga w/ Sarah
DESCRIPTION:Bio: Sarah Hirsch has been practicing yoga for over a decade\, and teaching for two years. She earned her 200 hour teacher certification in Rishikesh\, India\, in 2015. Her classes emphasize the connection between body\, mind\, and spirit\, helping to cultivate a deeper relationship with the Universe as a whole. She strives to use inclusive language and modifications in order to create a safe space where practitioners can relax and release into their practice. \nDescription: Beginner/Intermediate Hatha Flow Yoga\nThis class brings together the slower\, more meditative approach of Hatha Yoga with the dynamic\, breath-centered focus of Vinyasa. Poses will be held for several breaths in order to sink deeply into the posture while utilizing active transitions to build heat and movement within the practice. Perfect for beginners\, as well as those with established practices! Classes are donation based.
URL:https://altlib.org/event/yoga-w-sarah-4/
LOCATION:Alternative Library\, 519 E Maple St\, Bellingham\, WA\, 98225\, United States
CATEGORIES:Classroom
END:VEVENT
BEGIN:VEVENT
DTSTART;TZID=UTC:20180313T150000
DTEND;TZID=UTC:20180313T190000
DTSTAMP:20260425T140852
CREATED:20180125T101110Z
LAST-MODIFIED:20180125T101110Z
UID:20882-1520953200-1520967600@altlib.org
SUMMARY:CLASSROOM: Alternative Healing Clinic
DESCRIPTION:Walk-in alternative healing clinic.  All by donation (N.O.T.A.F.L.O.F.).  Space open to alternative healers to practice their arts.  Currently hosting Tuck Tyrell (GroundEd Holistics\, biomagnetic acupressure and kinesiology)\, Cody Harder (BioSonic Healing\, BioMat infrared sauna and tuning fork therapy)\, and Yin (Thai bodywork/massage\, scraping\, cupping).
URL:https://altlib.org/event/classroom-alternative-healing-clinic-10/
LOCATION:Alternative Library\, 519 E Maple St\, Bellingham\, WA\, 98225\, United States
CATEGORIES:Classroom
END:VEVENT
BEGIN:VEVENT
DTSTART;TZID=UTC:20180308T173000
DTEND;TZID=UTC:20180308T190000
DTSTAMP:20260425T140852
CREATED:20180129T084215Z
LAST-MODIFIED:20180129T084215Z
UID:20921-1520530200-1520535600@altlib.org
SUMMARY:CLASSROOM: Skillshare Meetup
DESCRIPTION:Skillshare Meetup hosted by The Identity Movement \nBegins at 5:30pm
URL:https://altlib.org/event/classroom-skillshare-meetup-3/
CATEGORIES:Classroom
END:VEVENT
BEGIN:VEVENT
DTSTART;TZID=UTC:20180306T150000
DTEND;TZID=UTC:20180306T190000
DTSTAMP:20260425T140852
CREATED:20180125T101006Z
LAST-MODIFIED:20180125T101006Z
UID:20881-1520348400-1520362800@altlib.org
SUMMARY:CLASSROOM: Alternative Healing Clinic
DESCRIPTION:Walk-in alternative healing clinic.  All by donation (N.O.T.A.F.L.O.F.).  Space open to alternative healers to practice their arts.  Currently hosting Tuck Tyrell (GroundEd Holistics\, biomagnetic acupressure and kinesiology)\, Cody Harder (BioSonic Healing\, BioMat infrared sauna and tuning fork therapy)\, and Yin (Thai bodywork/massage\, scraping\, cupping).
URL:https://altlib.org/event/classroom-alternative-healing-clinic-9/
LOCATION:Alternative Library\, 519 E Maple St\, Bellingham\, WA\, 98225\, United States
CATEGORIES:Classroom
END:VEVENT
BEGIN:VEVENT
DTSTART;TZID=UTC:20180228T160000
DTEND;TZID=UTC:20180228T180000
DTSTAMP:20260425T140852
CREATED:20180214T030031Z
LAST-MODIFIED:20180214T030031Z
UID:20960-1519833600-1519840800@altlib.org
SUMMARY:Yoga w/ Sarah
DESCRIPTION:Bio: Sarah Hirsch has been practicing yoga for over a decade\, and teaching for two years. She earned her 200 hour teacher certification in Rishikesh\, India\, in 2015. Her classes emphasize the connection between body\, mind\, and spirit\, helping to cultivate a deeper relationship with the Universe as a whole. She strives to use inclusive language and modifications in order to create a safe space where practitioners can relax and release into their practice. \nDescription: Beginner/Intermediate Hatha Flow Yoga\nThis class brings together the slower\, more meditative approach of Hatha Yoga with the dynamic\, breath-centered focus of Vinyasa. Poses will be held for several breaths in order to sink deeply into the posture while utilizing active transitions to build heat and movement within the practice. Perfect for beginners\, as well as those with established practices! Classes are donation based.
URL:https://altlib.org/event/yoga-w-sarah-3/
CATEGORIES:Classroom
END:VEVENT
BEGIN:VEVENT
DTSTART;TZID=UTC:20180227T150000
DTEND;TZID=UTC:20180227T190000
DTSTAMP:20260425T140852
CREATED:20180125T100640Z
LAST-MODIFIED:20180125T100640Z
UID:20880-1519743600-1519758000@altlib.org
SUMMARY:CLASSROOM: Alternative Healing Clinic
DESCRIPTION:Walk-in alternative healing clinic.  All by donation (N.O.T.A.F.L.O.F.).  Space open to alternative healers to practice their arts.  Currently hosting Tuck Tyrell (GroundEd Holistics\, biomagnetic acupressure and kinesiology)\, Cody Harder (BioSonic Healing\, BioMat infrared sauna and tuning fork therapy)\, and Yin (Thai bodywork/massage\, scraping\, cupping).
URL:https://altlib.org/event/classroom-alternative-healing-clinic-8/
LOCATION:Alternative Library\, 519 E Maple St\, Bellingham\, WA\, 98225\, United States
CATEGORIES:Classroom
END:VEVENT
BEGIN:VEVENT
DTSTART;TZID=UTC:20180222T200000
DTEND;TZID=UTC:20180222T230000
DTSTAMP:20260425T140852
CREATED:20180129T084301Z
LAST-MODIFIED:20180214T040653Z
UID:20922-1519329600-1519340400@altlib.org
SUMMARY:SHOW: Daniel Higgs recites the Fools Sermon with organ accompaniment by Stephen Strohmeier
DESCRIPTION:Daniel Higgs performs a long form poetry recitation with electric organ accompaniment.\nThere will also be performances from:\n– Billy Ward and the Other Guys\n– Capture Infinity \nDoors at 7:30pm\nShow at 8:00pm \nRSVP and more info at: https://www.facebook.com/events/858592080979797/
URL:https://altlib.org/event/classroom-skillshare-meetup-4/
CATEGORIES:Classroom
END:VEVENT
BEGIN:VEVENT
DTSTART;TZID=America/Los_Angeles:20180222T173000
DTEND;TZID=America/Los_Angeles:20180222T190000
DTSTAMP:20260425T140852
CREATED:20180129T035301Z
LAST-MODIFIED:20180129T035301Z
UID:20899-1519320600-1519326000@altlib.org
SUMMARY:CLASSROOM: Skillshare Meetup
DESCRIPTION:Skillshare Meetup hosted by The Identity Movement \nBegins at 5:30pm
URL:https://altlib.org/event/classroom-skillshare-meetup-2/
LOCATION:Alternative Library\, 519 E Maple St\, Bellingham\, WA\, 98225\, United States
CATEGORIES:Classroom
ORGANIZER;CN="Bellingham%20Alternative%20Library":MAILTO:bellingham.alternative.library@gmail.com
END:VEVENT
BEGIN:VEVENT
DTSTART;TZID=UTC:20180221T160000
DTEND;TZID=UTC:20180221T180000
DTSTAMP:20260425T140852
CREATED:20180214T030002Z
LAST-MODIFIED:20180214T030002Z
UID:20959-1519228800-1519236000@altlib.org
SUMMARY:Yoga w/ Sarah
DESCRIPTION:Bio: Sarah Hirsch has been practicing yoga for over a decade\, and teaching for two years. She earned her 200 hour teacher certification in Rishikesh\, India\, in 2015. Her classes emphasize the connection between body\, mind\, and spirit\, helping to cultivate a deeper relationship with the Universe as a whole. She strives to use inclusive language and modifications in order to create a safe space where practitioners can relax and release into their practice. \nDescription: Beginner/Intermediate Hatha Flow Yoga\nThis class brings together the slower\, more meditative approach of Hatha Yoga with the dynamic\, breath-centered focus of Vinyasa. Poses will be held for several breaths in order to sink deeply into the posture while utilizing active transitions to build heat and movement within the practice. Perfect for beginners\, as well as those with established practices! Classes are donation based.
URL:https://altlib.org/event/yoga-w-sarah-2/
CATEGORIES:Classroom
END:VEVENT
BEGIN:VEVENT
DTSTART;TZID=UTC:20180220T150000
DTEND;TZID=UTC:20180220T190000
DTSTAMP:20260425T140852
CREATED:20180125T100503Z
LAST-MODIFIED:20180125T100503Z
UID:20879-1519138800-1519153200@altlib.org
SUMMARY:CLASSROOM: Alternative Healing Clinic
DESCRIPTION:Walk-in alternative healing clinic.  All by donation (N.O.T.A.F.L.O.F.).  Space open to alternative healers to practice their arts.  Currently hosting Tuck Tyrell (GroundEd Holistics\, biomagnetic acupressure and kinesiology)\, Cody Harder (BioSonic Healing\, BioMat infrared sauna and tuning fork therapy)\, and Yin (Thai bodywork/massage\, scraping\, cupping).
URL:https://altlib.org/event/classroom-alternative-healing-clinic-7/
LOCATION:Alternative Library\, 519 E Maple St\, Bellingham\, WA\, 98225\, United States
CATEGORIES:Classroom
END:VEVENT
BEGIN:VEVENT
DTSTART;TZID=UTC:20180214T160000
DTEND;TZID=UTC:20180214T180000
DTSTAMP:20260425T140852
CREATED:20180214T025930Z
LAST-MODIFIED:20180214T025930Z
UID:20958-1518624000-1518631200@altlib.org
SUMMARY:Yoga w/ Sarah
DESCRIPTION:Bio: Sarah Hirsch has been practicing yoga for over a decade\, and teaching for two years. She earned her 200 hour teacher certification in Rishikesh\, India\, in 2015. Her classes emphasize the connection between body\, mind\, and spirit\, helping to cultivate a deeper relationship with the Universe as a whole. She strives to use inclusive language and modifications in order to create a safe space where practitioners can relax and release into their practice. \nDescription: Beginner/Intermediate Hatha Flow Yoga\nThis class brings together the slower\, more meditative approach of Hatha Yoga with the dynamic\, breath-centered focus of Vinyasa. Poses will be held for several breaths in order to sink deeply into the posture while utilizing active transitions to build heat and movement within the practice. Perfect for beginners\, as well as those with established practices! Classes are donation based.
URL:https://altlib.org/event/yoga-w-sarah/
CATEGORIES:Classroom
END:VEVENT
BEGIN:VEVENT
DTSTART;TZID=UTC:20180213T150000
DTEND;TZID=UTC:20180213T190000
DTSTAMP:20260425T140852
CREATED:20180125T100210Z
LAST-MODIFIED:20180125T100210Z
UID:20878-1518534000-1518548400@altlib.org
SUMMARY:CLASSROOM: Alternative Healing Clinic
DESCRIPTION:Walk-in alternative healing clinic.  All by donation (N.O.T.A.F.L.O.F.).  Space open to alternative healers to practice their arts.  Currently hosting Tuck Tyrell (GroundEd Holistics\, biomagnetic acupressure and kinesiology)\, Cody Harder (BioSonic Healing\, BioMat infrared sauna and tuning fork therapy)\, and Yin (Thai bodywork/massage\, scraping\, cupping).
URL:https://altlib.org/event/classroom-alternative-healing-clinic-6/
LOCATION:Alternative Library\, 519 E Maple St\, Bellingham\, WA\, 98225\, United States
CATEGORIES:Classroom
END:VEVENT
BEGIN:VEVENT
DTSTART;TZID=UTC:20180210T140000
DTEND;TZID=UTC:20180210T153000
DTSTAMP:20260425T140852
CREATED:20180131T084941Z
LAST-MODIFIED:20180131T084941Z
UID:20953-1518271200-1518276600@altlib.org
SUMMARY:Radical Reading Group
DESCRIPTION:This is going to be a monthly reading group dedicated to writings and other media sources\, around radical political theory\, history\, poetry\, narratives\, etc. Themes may include radical feminism\, green anarchy\, civil rights issues\, ecological concerns\, gender issues\, and everything in between. Content will be posted on event pages and then discussed at the event. Feel free to attend even if you haven’t consumed the material. Please check the event page for guiding questions and links to content.\n.\n.\n.\nTheme of first reading group: Political Imagination \nGuiding Questions: \nWhat do we mean by political imagination? \nWhat might it mean to “open-up” political imagination and why/how might this be useful?\n\nHow does the prole.info piece imagine our everyday relationships (to one another through work\, community\, media\, etc.)? And what does the piece suggest (if anything) that we do to change them? \nHow does the Tyler the Creator song imagine our everyday relationships and are there suggestions for changing them? \nWhy might it be important to utilize multiple levels of engagement to open up the political imagination? \nWhat are some limits of imagining and how do we move into political possibility? \nLinks to suggested consumables (1st reading group February 10th): \nhttp://prole.info/wcpw/index.html \nhttps://www.youtube.com/watch?v=_AHhBQM4QXA \nhttp://artactivism.gn.apc.org/allpdfs/422-Pots%20Pans%20and%20Popular.pdf \nhttps://insurrectionnewsworldwide.com/2017/11/26/olympia-usa-demands-of-the-olympia-commune/ \nhttp://www.soleone.org/solecast/2016/3/3/solecast-23-w-flobots-on-music-resistance-comic-books \nhttps://www.facebook.com/groups/homesnowbellingham/
URL:https://altlib.org/event/radical-reading-group/
LOCATION:Alternative Library\, 519 E Maple St\, Bellingham\, WA\, 98225\, United States
CATEGORIES:Classroom
ORGANIZER;CN="Bellingham%20Alternative%20Library":MAILTO:bellingham.alternative.library@gmail.com
END:VEVENT
BEGIN:VEVENT
DTSTART;TZID=America/Los_Angeles:20180208T173000
DTEND;TZID=America/Los_Angeles:20180208T190000
DTSTAMP:20260425T140852
CREATED:20180129T033820Z
LAST-MODIFIED:20180129T033820Z
UID:20892-1518111000-1518116400@altlib.org
SUMMARY:CLASSROOM: Skillshare Meetup
DESCRIPTION:Skillshare Meetup hosted by The Identity Movement \nBegins at 5:30pm
URL:https://altlib.org/event/classroom-skillshare-meetup/
LOCATION:Alternative Library\, 519 E Maple St\, Bellingham\, WA\, 98225\, United States
CATEGORIES:Classroom
ORGANIZER;CN="Bellingham%20Alternative%20Library":MAILTO:bellingham.alternative.library@gmail.com
END:VEVENT
BEGIN:VEVENT
DTSTART;TZID=UTC:20180206T150000
DTEND;TZID=UTC:20180206T190000
DTSTAMP:20260425T140852
CREATED:20180125T100042Z
LAST-MODIFIED:20180125T100042Z
UID:20877-1517929200-1517943600@altlib.org
SUMMARY:CLASSROOM: Alternative Healing Clinic
DESCRIPTION:Walk-in alternative healing clinic.  All by donation (N.O.T.A.F.L.O.F.).  Space open to alternative healers to practice their arts.  Currently hosting Tuck Tyrell (GroundEd Holistics\, biomagnetic acupressure and kinesiology)\, Cody Harder (BioSonic Healing\, BioMat infrared sauna and tuning fork therapy)\, and Yin (Thai bodywork/massage\, scraping\, cupping).
URL:https://altlib.org/event/classroom-alternative-healing-clinic-5/
LOCATION:Alternative Library\, 519 E Maple St\, Bellingham\, WA\, 98225\, United States
CATEGORIES:Classroom
END:VEVENT
BEGIN:VEVENT
DTSTART;TZID=UTC:20180201T173000
DTEND;TZID=UTC:20180201T190000
DTSTAMP:20260425T140852
CREATED:20180130T123005Z
LAST-MODIFIED:20180131T103906Z
UID:20934-1517506200-1517511600@altlib.org
SUMMARY:Crafting Safer Spaces - Discussion
DESCRIPTION:This will be an ongoing event\, each first Thursday of the month\, to create better accountability processes within the space\, and to create more accountability among the community. In the effort of maintaining the Alternative Library as a safer space\, we will be discussing practices and protocols of the space\, and exploring what engaged people can do to actively advocate for folks who have suffered from\, or are targets for\, sexual harassment and assault. A secondary function of this time may be to discuss holding safer space for marginalized groups of all kinds\, including discussions about how to combat racism\, sexism\, homophobia\, transphobia\, systemic oppression\, and the like in the Alt Lib and other connected venues and art spaces in the community. \nHere is the current Alt Lib policy on safer space \nSafer Space
URL:https://altlib.org/event/crafting-safer-spaces-discussion/
LOCATION:Alternative Library\, 519 E Maple St\, Bellingham\, WA\, 98225\, United States
CATEGORIES:Classroom
ORGANIZER;CN="Bellingham%20Alternative%20Library":MAILTO:bellingham.alternative.library@gmail.com
END:VEVENT
BEGIN:VEVENT
DTSTART;TZID=UTC:20171226T150000
DTEND;TZID=UTC:20171226T190000
DTSTAMP:20260425T140852
CREATED:20171207T102952Z
LAST-MODIFIED:20171207T102952Z
UID:20830-1514300400-1514314800@altlib.org
SUMMARY:CLASSROOM:  Alternative Healing Clinic
DESCRIPTION:Walk-in alternative healing clinic.  Space open to alternative healers to practice their arts.  Currently hosting Tuck Tyrell (GroundEd Holistics\, biomagnetic acupressure and kinesiology) and Cody Harder (BioSonic Healing\, BioMat infrared sauna and tuning fork therapy).
URL:https://altlib.org/event/classroom-alternative-healing-clinic-3/
LOCATION:Alternative Library\, 519 E Maple St\, Bellingham\, WA\, 98225\, United States
CATEGORIES:Classroom
END:VEVENT
BEGIN:VEVENT
DTSTART;TZID=UTC:20171225T160000
DTEND;TZID=UTC:20171225T170000
DTSTAMP:20260425T140852
CREATED:20171121T033850Z
LAST-MODIFIED:20171121T033850Z
UID:20797-1514217600-1514221200@altlib.org
SUMMARY:CLASSROOM: Yoga w/ Petaro
DESCRIPTION:Yin yoga for deep healing w/ Petaro\n$10
URL:https://altlib.org/event/classroom-yoga-w-petaro-4/
CATEGORIES:Classroom
END:VEVENT
BEGIN:VEVENT
DTSTART;TZID=UTC:20171219T150000
DTEND;TZID=UTC:20171219T190000
DTSTAMP:20260425T140852
CREATED:20171207T102728Z
LAST-MODIFIED:20171207T102728Z
UID:20829-1513695600-1513710000@altlib.org
SUMMARY:CLASSROOM:  Alternative Healing Clinic
DESCRIPTION:Walk-in alternative healing clinic.  Space open to alternative healers to practice their arts.  Currently hosting Tuck Tyrell (GroundEd Holistics\, biomagnetic acupressure and kinesiology) and Cody Harder (BioSonic Healing\, BioMat infrared sauna and tuning fork therapy).
URL:https://altlib.org/event/classroom-alternative-healing-clinic-2/
LOCATION:Alternative Library\, 519 E Maple St\, Bellingham\, WA\, 98225\, United States
CATEGORIES:Classroom
END:VEVENT
BEGIN:VEVENT
DTSTART;TZID=UTC:20171218T160000
DTEND;TZID=UTC:20171218T170000
DTSTAMP:20260425T140852
CREATED:20171121T033800Z
LAST-MODIFIED:20171121T033800Z
UID:20796-1513612800-1513616400@altlib.org
SUMMARY:CLASSROOM: Yoga w/ Petaro
DESCRIPTION:Yin yoga for deep healing w/ Petaro\n$10
URL:https://altlib.org/event/classroom-yoga-w-petaro-3/
CATEGORIES:Classroom
END:VEVENT
BEGIN:VEVENT
DTSTART;TZID=UTC:20171212T150000
DTEND;TZID=UTC:20171212T190000
DTSTAMP:20260425T140852
CREATED:20171207T064642Z
LAST-MODIFIED:20171207T064642Z
UID:20810-1513090800-1513105200@altlib.org
SUMMARY:CLASSROOM:  Alternative Healing Clinic
DESCRIPTION:Space open to alternative healers to practice their arts.  Currently hosting Tuck Tyrell (GroundEd Holistics\, biomagnetic acupressure and kinesiology) and Cody Harder (BioSonic Healing\, BioMat infrared sauna sessions and tuning fork therapy).
URL:https://altlib.org/event/classroom-alternative-healing-clinic/
LOCATION:Alternative Library\, 519 E Maple St\, Bellingham\, WA\, 98225\, United States
CATEGORIES:Classroom
END:VEVENT
BEGIN:VEVENT
DTSTART;TZID=UTC:20171211T160000
DTEND;TZID=UTC:20171211T170000
DTSTAMP:20260425T140852
CREATED:20171121T033711Z
LAST-MODIFIED:20171121T033711Z
UID:20795-1513008000-1513011600@altlib.org
SUMMARY:CLASSROOM: Yoga w/ Petaro
DESCRIPTION:Yin yoga for deep healing w/ Petaro\n$10
URL:https://altlib.org/event/classroom-yoga-w-petaro-2/
CATEGORIES:Classroom
END:VEVENT
BEGIN:VEVENT
DTSTART;TZID=UTC:20171205T150000
DTEND;TZID=UTC:20171205T170000
DTSTAMP:20260425T140852
CREATED:20171121T034707Z
LAST-MODIFIED:20171121T034707Z
UID:20798-1512486000-1512493200@altlib.org
SUMMARY:CLASSROOM: Walk-in Healing Clinic
DESCRIPTION:An open healing space! All are Welcome! \nWe are offering complimentary and holisitic healing arts Tuesday afternoons at the Alternative Library. \nThis is an open walk in clinic. We will share a safe\, nuturing\, and healing space for you to feel your fullest. \nBy donation! RSVP and further info – https://www.facebook.com/events/571482229850552/ \nPhysical\, Mental\, and Emotional Tune-ups \nHosted by Tuck and Cody \nBios- \nTuck:\nI am a Holistic Healer specializing in traumatic brain injuries\, neurological disorders\, and pathogen based diseases. My modalities include Biomagnetic Pair Therapy\, Acupressure\, and NeuroMuscular Reprogramming. I primarily work with the body’s bioelectric system to detoxify the organ systems\, invite communication through the nervous system\, and detangle kinetic chains of the fascial tissues. I use muscle testing to uncover the source of symptoms so that the body may naturally unwind\, reorganize\, and heal itself. \nCody:\nA human with a proclivity to sound and music\, I have a deep personal understanding of how the body reacts to sound\, and how to use sound to create relaxed and serene states of mind. Offered at this clinic are:\n-Biomat Session: an infrared heating mat made with over 30lbs of amethyst and black tourmaline crystals; blocks EMF (electromagnetic frequencies). Melt away tension and stuck energy with the flick of a button. Deep\, penetrating warmth to help ease muscles and relax the entire bodymind. Perfect for the cold months 🙂\n-Tuning Fork Therapy: Relax with some vibrations straight to the dome. A variety of tuning forks for a variety of needs. Offered separately or in tandem with the BioMat (seriously\, why not?).
URL:https://altlib.org/event/classroom-walk-in-healing-clinic/
CATEGORIES:Classroom
END:VEVENT
BEGIN:VEVENT
DTSTART;TZID=UTC:20171204T160000
DTEND;TZID=UTC:20171204T170000
DTSTAMP:20260425T140852
CREATED:20171121T033619Z
LAST-MODIFIED:20171121T033619Z
UID:20794-1512403200-1512406800@altlib.org
SUMMARY:CLASSROOM: Yoga w/ Petaro
DESCRIPTION:Yin yoga for deep healing w/ Petaro\n$10
URL:https://altlib.org/event/classroom-yoga-w-petaro/
CATEGORIES:Classroom
END:VEVENT
BEGIN:VEVENT
DTSTART;TZID=UTC:20171127T160000
DTEND;TZID=UTC:20171127T170000
DTSTAMP:20260425T140852
CREATED:20171012T110922Z
LAST-MODIFIED:20171012T110922Z
UID:20737-1511798400-1511802000@altlib.org
SUMMARY:Yoga w/ Petaro
DESCRIPTION:Yin yoga for deep healing w/ Petaro\n$10
URL:https://altlib.org/event/yoga-w-petaro-33/
CATEGORIES:Classroom
END:VEVENT
BEGIN:VEVENT
DTSTART;TZID=UTC:20171120T160000
DTEND;TZID=UTC:20171120T170000
DTSTAMP:20260425T140852
CREATED:20171012T110850Z
LAST-MODIFIED:20171012T110850Z
UID:20736-1511193600-1511197200@altlib.org
SUMMARY:Yoga w/ Petaro
DESCRIPTION:Yin yoga for deep healing w/ Petaro\n$10
URL:https://altlib.org/event/yoga-w-petaro-32/
CATEGORIES:Classroom
END:VEVENT
BEGIN:VEVENT
DTSTART;TZID=UTC:20171118T150000
DTEND;TZID=UTC:20171118T170000
DTSTAMP:20260425T140852
CREATED:20171031T155631Z
LAST-MODIFIED:20171031T160547Z
UID:20763-1511017200-1511024400@altlib.org
SUMMARY:CLASSROOM: Consent and Accountability
DESCRIPTION:This will be the first in what we hope to become an ongoing discussion that furthers our anti-oppression work within the space and beyond it. Some things we’ll be discussing at this first meeting include: rape culture\, cultural appropriation\, heterosexism\, and how we want to move forward with creating systems of accountability for ourselves and those in our community. \nRSVP and more info here: https://www.facebook.com/events/2006356496316568/
URL:https://altlib.org/event/classroom-consent-and-accountability/
CATEGORIES:Classroom
END:VEVENT
BEGIN:VEVENT
DTSTART;TZID=UTC:20171113T160000
DTEND;TZID=UTC:20171113T170000
DTSTAMP:20260425T140852
CREATED:20171012T110802Z
LAST-MODIFIED:20171012T110802Z
UID:20735-1510588800-1510592400@altlib.org
SUMMARY:Yoga w/ Petaro
DESCRIPTION:Yin yoga for deep healing w/ Petaro\n$10
URL:https://altlib.org/event/yoga-w-petaro-31/
CATEGORIES:Classroom
END:VEVENT
BEGIN:VEVENT
DTSTART;TZID=UTC:20171109T173000
DTEND;TZID=UTC:20171109T190000
DTSTAMP:20260425T140852
CREATED:20171031T170117Z
LAST-MODIFIED:20171031T170117Z
UID:20774-1510248600-1510254000@altlib.org
SUMMARY:Skill Share: Entrepreneurial Branding and Flow State
DESCRIPTION:Let’s learn how we can regenerate our community through skill building workshops\, mutual aid groups\, and local volunteer opportunities in Bellingham\, WA. \nFor this week’s Skillshare\, we have Brand Strategist Shelly Buffington from Look and Feel Branding presenting on “Connect your brand voice and visuals in 10 simple steps”. Shelly will be sharing a short exercise for entrepreneurs or budding entrepreneurs to practice finding their look/feel of their brand. Plus\, a short talk about the 10 steps you can take to align your voice and visuals of your branding. \nLocal Entrepreneur Summer Huntington with be presenting on “4-day Work Flow”. Summer gives you a practical blueprint from which you can re-establish flow in your own life. She specializes in coaching people to create a vision\, identify fears and self-limiting beliefs and create a plan for consistently accessing their own personal power. “Flow is an optimal state of consciousness where we feel our best and performance is heightened. When you cultivate a mindset of “Flow”\, you can also tap into clarity and ease in all creative\, productive and research-based tasks.” \nRSVP and more info at: https://www.facebook.com/events/141360399828848/
URL:https://altlib.org/event/skill-share-entrepreneurial-branding-and-flow-state/
CATEGORIES:Classroom
END:VEVENT
END:VCALENDAR